BEGIN:VCALENDAR
VERSION:2.0
PRODID:-//Tukios.com/
BEGIN:VEVENT
UID:eab6c532-7244-4911-a7a9-0f2a826127cf@www.hooversonfuneralhomes.com
DTSTAMP:20260421T013845Z
DTSTART:20260516T163000Z
DTEND:20260516T210000Z
SUMMARY:Celebration of Life
DESCRIPTION:
URL:https://www.hooversonfuneralhomes.com/obituaries/carla-ann-wachter
LOCATION:Lachmund Cramer VFW Post 7694 outdoor pavilion 700 VFW Drive  
	Prairie du Sac WI 53578
GEO:43.2969438;-89.7264848
END:VEVENT
END:VCALENDAR