BEGIN:VCALENDAR
VERSION:2.0
PRODID:-//Tukios.com/
BEGIN:VEVENT
UID:04c73869-c0f5-46e3-aad9-ed42240d40f4@www.hooversonfuneralhomes.com
DTSTAMP:20260425T195832Z
DTSTART:20260430T180000Z
DTEND:20260430T210000Z
SUMMARY:Visitation
DESCRIPTION:
URL:https://www.hooversonfuneralhomes.com/obituaries/james-jim-kirner
LOCATION:Hooverson Funeral Home 251 Water Street  Sauk City WI 53583
GEO:43.2787663;-89.7196858
END:VEVENT
END:VCALENDAR