BEGIN:VCALENDAR
VERSION:2.0
PRODID:-//Tukios.com/
BEGIN:VEVENT
UID:24092b1b-2d2c-4cf0-ac65-9887c66db454@www.hooversonfuneralhomes.com
DTSTAMP:20260424T224646Z
DTSTART:20260501T143000Z
DTEND:20260501T154500Z
SUMMARY:Visitation
DESCRIPTION:
URL:https://www.hooversonfuneralhomes.com/obituaries/robert-bob-henseler
LOCATION:Hooverson Funeral Home 251 Water Street  Sauk City WI 53583
GEO:43.2787663;-89.7196858
END:VEVENT
END:VCALENDAR