BEGIN:VCALENDAR
VERSION:2.0
PRODID:-//Tukios.com/
BEGIN:VEVENT
UID:366a4937-b162-4f5d-8d95-a544fdfc3eb0@www.hooversonfuneralhomes.com
DTSTAMP:20260424T224940Z
DTSTART:20260501T160000Z
DTEND:20260501T170000Z
SUMMARY:Mass
DESCRIPTION:
URL:https://www.hooversonfuneralhomes.com/obituaries/robert-bob-henseler
LOCATION:St. Aloysius Catholic Church 115 Madison Street  Sauk City WI 
	53583
GEO:43.28139;-89.725801
END:VEVENT
END:VCALENDAR