BEGIN:VCALENDAR
VERSION:2.0
PRODID:-//Tukios.com/
BEGIN:VEVENT
UID:2b87f310-087b-4aeb-bb70-386188039815@www.hooversonfuneralhomes.com
DTSTAMP:20260424T002320Z
DTSTART:20260501T210000Z
DTEND:20260501T230000Z
SUMMARY:Celebration of Life
DESCRIPTION:
URL:https://www.hooversonfuneralhomes.com/obituaries/terry-meili
LOCATION:Midland United Methodist Church,Mazomanie 10235 County Road KP  
	Mazomanie WI 53560
GEO:43.1501699;-89.7752147
END:VEVENT
END:VCALENDAR