BEGIN:VCALENDAR
VERSION:2.0
PRODID:-//Tukios.com/
BEGIN:VEVENT
UID:74071e83-9539-437f-9021-0d56c632c323@www.hooversonfuneralhomes.com
DTSTAMP:20260424T002033Z
DTSTART:20260501T230000Z
DTEND:20260502T000000Z
SUMMARY:Celebration of Life
DESCRIPTION:
URL:https://www.hooversonfuneralhomes.com/obituaries/terry-meili
LOCATION: 10235 County Road KP 10235 County Road KP Mazomanie WI 53560
GEO:43.1501699;-89.7752147
END:VEVENT
END:VCALENDAR